BEGIN:VCALENDAR
VERSION:2.0
PRODID:-//Gleasons Drift - ECPv6.15.20//NONSGML v1.0//EN
CALSCALE:GREGORIAN
METHOD:PUBLISH
X-WR-CALNAME:Gleasons Drift
X-ORIGINAL-URL:https://gleasonsdrift.com
X-WR-CALDESC:Events for Gleasons Drift
REFRESH-INTERVAL;VALUE=DURATION:PT1H
X-Robots-Tag:noindex
X-PUBLISHED-TTL:PT1H
BEGIN:VTIMEZONE
TZID:America/Halifax
BEGIN:DAYLIGHT
TZOFFSETFROM:-0400
TZOFFSETTO:-0300
TZNAME:ADT
DTSTART:20250309T060000
END:DAYLIGHT
BEGIN:STANDARD
TZOFFSETFROM:-0300
TZOFFSETTO:-0400
TZNAME:AST
DTSTART:20251102T050000
END:STANDARD
BEGIN:DAYLIGHT
TZOFFSETFROM:-0400
TZOFFSETTO:-0300
TZNAME:ADT
DTSTART:20260308T060000
END:DAYLIGHT
BEGIN:STANDARD
TZOFFSETFROM:-0300
TZOFFSETTO:-0400
TZNAME:AST
DTSTART:20261101T050000
END:STANDARD
BEGIN:DAYLIGHT
TZOFFSETFROM:-0400
TZOFFSETTO:-0300
TZNAME:ADT
DTSTART:20270314T060000
END:DAYLIGHT
BEGIN:STANDARD
TZOFFSETFROM:-0300
TZOFFSETTO:-0400
TZNAME:AST
DTSTART:20271107T050000
END:STANDARD
END:VTIMEZONE
BEGIN:VEVENT
DTSTART;TZID=America/Halifax:20260329T160000
DTEND;TZID=America/Halifax:20260329T190000
DTSTAMP:20260424T165249
CREATED:20260325T104615Z
LAST-MODIFIED:20260325T104615Z
UID:10000376-1774800000-1774810800@gleasonsdrift.com
SUMMARY:Bill Whalen solo with Yell at God and A.Parker
DESCRIPTION:
URL:https://gleasonsdrift.com/event/bill-whalen-solo-with-yell-at-god-and-a-parker/
LOCATION:Pilger Ruh Brewing\, Center Street\, Pottsville\, PA\, United States
END:VEVENT
BEGIN:VEVENT
DTSTART;TZID=America/Halifax:20260220T190000
DTEND;TZID=America/Halifax:20260220T210000
DTSTAMP:20260424T165249
CREATED:20260125T135325Z
LAST-MODIFIED:20260125T135427Z
UID:10000374-1771614000-1771621200@gleasonsdrift.com
SUMMARY:Backroad Drifters with Churches and Trains
DESCRIPTION:Benefit show at Pilger Ruh Brewing in Pottsville\, PA
URL:https://gleasonsdrift.com/event/backroad-drifters-with-churches-and-trains/
LOCATION:Pilger Ruh Brewing\, Center Street\, Pottsville\, PA\, United States
END:VEVENT
END:VCALENDAR